BEGIN:VCALENDAR
VERSION:2.0
PRODID:-//Edgewall Software//NONSGML Trac 1.6//EN
METHOD:PUBLISH
X-WR-CALNAME:Ariba - Overlay-based Virtual Network Substrate - Roadmap
X-WR-CALDESC:Ariba - Overlay-based Virtual Network Substrate
X-WR-TIMEZONE:UTC+02:00
BEGIN:VEVENT
UID:</milestone/Release of 0.2.0@www.ariba-underlay.org>
DTSTAMP:20090428T220000Z
DTSTART;VALUE=DATE:20090429
SUMMARY:Milestone Release of 0.2.0
URL:http://www.ariba-underlay.org/milestone/Release%20of%200.2.0
END:VEVENT
END:VCALENDAR
